Workbook
Name defap: [1]Delib!$A$1:$B$15
Name delibfp: DelibFP!$A$1:$B$15

Sheet DelibFP
A1: Código Proc. | B1: Complemento
A2: 303050233 | B2: 1254.56
A3: 405050364 | B3: 628.65
A4: 405010184 | B4: 286.26
A5: 404010369 | B5: 511.56
A6: 409010154 | B6: 500
A7: 418010013 | B7: 4361.55
A8: 418010021 | B8: 2056.59
A9: 418010030 | B9: 2577.6
A10: 418010080 | B10: 1200
A11: 418020019 | B11: 1800
A12: 418020027 | B12: 1800
A13: 418020035 | B13: 1200
... A15: 309070023 | B15: 300

Sheet Físico
A1: Estabelecimentos CNES-SC | B1: 0366323 HOSPITAL MARIA SCHMITT | C1: 0610062 HOSPITAL DE OLHOS DE CONCORDIA LTDA | D1: 2303892 HOSPITAL SAO FRANCISCO | E1: 2306336 HOSPITAL SAO JOSE | F1: 2306344 HOSPITAL JARAGUA | G1: 2379627 HOSPITAL SAMARIA | H1: 2418177 HOSPITAL SAO FRANCISCO DE ASSIS | I1: 2490935 HOSPITAL FELIX DA COSTA GOMES | J1: 2521296 HOSPITAL BETHESDA | K1: 2521792 HOSPITAL E MATERNIDADE SAGRADA FAMILIA | L1: 2521873 HOSPITAL BEATRIZ RAMOS | M1: 2522411 HOSPITAL AZAMBUJA | N1: 2522489 ASSOCIACAO HOSPITAL E MATERNIDADE DOM JOAQUIM | O1: 2558017 HOSPITAL DE CARIDADE S B J DOS PASSOS | P1: 2568713 HOSPITAL REGIONAL ALTO VALE | Q1: 2641445 POLICLINICA DE REFERENCIA REGIONAL RIO DO SUL | R1: 2662914 HOSPITAL SEARA DO BEM MATERNO E INFANTIL | S1: 2701464 CIS AMOSC | T1: 2778831 HOSPITAL NOSSA SENHORA DA IMACULADA CONCEICAO | U1: 3123251 HOSPITAL DE OLHOS DE BLUMENAU | V1: 3180948 CLINICA DE OLHOS DR ROBERTO VON HERTWIG | W1: 3590909 OFTALMOLAGES | X1: 4564812 MULTI HOSPITAL | Y1: 4575407 COB CENTRO OFTALMOLOGICO DE BLUMENAU | Z1: 5195756 CIS NORDESTE SC | AA1: 6001165 HOSPITAL UNIVERSITARIO FURB IMAS | AB1: 6567274 CLINICA DE OLHOS ANTONELLI | AC1: 7728557 BOJ FILIAL | AD1: 9386882 CENTRO DE ESPECIALIDADES | AE1: 9712038 HOSPITAL DE OLHOS DE CRICIUMA | AF1: Total
A2: 0303050233 TRATAMENTO MEDICAMENTOSO DE DOENCA DA RETINA | B2: 0 | C2: 19 | D2: 2 | E2: 131 | F2: 0 | G2: 6 | H2: 0 | I2: 0 | J2: 296 | K2: 29 | L2: 14 | M2: 312 | N2: 14 | O2: 0 | P2: 3 | Q2: 0 | R2: 66 | S2: 0 | T2: 0 | U2: 65 | V2: 2 | W2: 178 | X2: 9 | Y2: 138 | Z2: 0 | AA2: 0 | AB2: 117 | AC2: 71 | AD2: 0 | AE2: 653 | AF2: 2125
A3: 0309070015 TRATAMENTO ESCLEROSANTE NAO ESTETICO DE VARIZES D | B3: 0 | C3: 0 | D3: 0 | E3: 0 | F3: 47 | G3: 0 | H3: 257 | I3: 20 | J3: 69 | K3: 0 | L3: 0 | M3: 0 | N3: 0 | O3: 38 | P3: 3 | Q3: 17 | R3: 0 | S3: 1 | T3: 8 | U3: 0 | V3: 0 | W3: 0 | X3: 0 | Y3: 0 | Z3: 33 | AA3: 0 | AB3: 0 | AC3: 0 | AD3: 0 | AE3: 0 | AF3: 493
A4: 0309070023 TRATAMENTO ESCLEROSANTE NAO ESTETICO DE VARIZES D | B4: 384 | C4: 0 | D4: 0 | E4: 0 | F4: 0 | G4: 0 | H4: 5 | I4: 0 | J4: 0 | K4: 36 | L4: 0 | M4: 0 | N4: 0 | O4: 0 | P4: 3 | Q4: 2 | R4: 0 | S4: 1 | T4: 25 | U4: 0 | V4: 0 | W4: 0 | X4: 0 | Y4: 0 | Z4: 0 | AA4: 441 | AB4: 0 | AC4: 0 | AD4: 2 | AE4: 0 | AF4: 899
A5: 0418010030 CONFECCAO DE FISTULA ARTERIO-VENOSA P/ HEMODIALIS | B5: 0 | C5: 0 | D5: 2 | E5: 0 | F5: 0 | G5: 0 | H5: 0 | I5: 0 | J5: 0 | K5: 0 | L5: 0 | M5: 0 | N5: 0 | O5: 0 | P5: 0 | Q5: 0 | R5: 0 | S5: 0 | T5: 0 | U5: 0 | V5: 0 | W5: 0 | X5: 0 | Y5: 0 | Z5: 0 | AA5: 0 | AB5: 0 | AC5: 0 | AD5: 0 | AE5: 0 | AF5: 2
A6: Total | B6: 384 | C6: 19 | D6: 4 | E6: 131 | F6: 47 | G6: 6 | H6: 262 | I6: 20 | J6: 365 | K6: 65 | L6: 14 | M6: 312 | N6: 14 | O6: 38 | P6: 9 | Q6: 19 | R6: 66 | S6: 2 | T6: 33 | U6: 65 | V6: 2 | W6: 178 | X6: 9 | Y6: 138 | Z6: 33 | AA6: 441 | AB6: 117 | AC6: 71 | AD6: 2 | AE6: 653 | AF6: 3519

Sheet Complemento
B1: Estabelecimentos CNES-SC | C1: 0366323 HOSPITAL MARIA SCHMITT | D1: 0610062 HOSPITAL DE OLHOS DE CONCORDIA LTDA | E1: 2303892 HOSPITAL SAO FRANCISCO | F1: 2306336 HOSPITAL SAO JOSE | G1: 2306344 HOSPITAL JARAGUA | H1: 2379627 HOSPITAL SAMARIA | I1: 2418177 HOSPITAL SAO FRANCISCO DE ASSIS | J1: 2490935 HOSPITAL FELIX DA COSTA GOMES | K1: 2521296 HOSPITAL BETHESDA | L1: 2521792 HOSPITAL E MATERNIDADE SAGRADA FAMILIA | M1: 2521873 HOSPITAL BEATRIZ RAMOS | N1: 2522411 HOSPITAL AZAMBUJA | O1: 2522489 ASSOCIACAO HOSPITAL E MATERNIDADE DOM JOAQUIM | P1: 2558017 HOSPITAL DE CARIDADE S B J DOS PASSOS | Q1: 2568713 HOSPITAL REGIONAL ALTO VALE | R1: 2641445 POLICLINICA DE REFERENCIA REGIONAL RIO DO SUL | S1: 2662914 HOSPITAL SEARA DO BEM MATERNO E INFANTIL | T1: 2701464 CIS AMOSC | U1: 2778831 HOSPITAL NOSSA SENHORA DA IMACULADA CONCEICAO | V1: 3123251 HOSPITAL DE OLHOS DE BLUMENAU | W1: 3180948 CLINICA DE OLHOS DR ROBERTO VON HERTWIG | X1: 3590909 OFTALMOLAGES | Y1: 4564812 MULTI HOSPITAL | Z1: 4575407 COB CENTRO OFTALMOLOGICO DE BLUMENAU | AA1: 5195756 CIS NORDESTE SC | AB1: 6001165 HOSPITAL UNIVERSITARIO FURB IMAS | AC1: 6567274 CLINICA DE OLHOS ANTONELLI | AD1: 7728557 BOJ FILIAL | AE1: 9386882 CENTRO DE ESPECIALIDADES | AF1: 9712038 HOSPITAL DE OLHOS DE CRICIUMA | AG1: Total
A2: =LEFT(B2,10)*1 -> 303050233 | B2: 0303050233 TRATAMENTO MEDICAMENTOSO DE DOENCA DA RETINA | C2: =IFERROR(VLOOKUP($A2,delibfp,2,0)*(Físico!B2),0) -> 0 | D2: =IFERROR(VLOOKUP($A2,delibfp,2,0)*(Físico!C2),0) -> 23836.64 | E2: =IFERROR(VLOOKUP($A2,delibfp,2,0)*(Físico!D2),0) -> 2509.12 | F2: =IFERROR(VLOOKUP($A2,delibfp,2,0)*(Físico!E2),0) -> 164347.36 | G2: =IFERROR(VLOOKUP($A2,delibfp,2,0)*(Físico!F2),0) -> 0 | H2: =IFERROR(VLOOKUP($A2,delibfp,2,0)*(Físico!G2),0) -> 7527.36 | I2: =IFERROR(VLOOKUP($A2,delibfp,2,0)*(Físico!H2),0) -> 0 | J2: =IFERROR(VLOOKUP($A2,delibfp,2,0)*(Físico!I2),0) -> 0 | ... AF2: =IFERROR(VLOOKUP($A2,delibfp,2,0)*(Físico!AE2),0) -> 819227.68 | AG2: =SUM(C2:AF2) -> 2665940
A3: =LEFT(B3,10)*1 -> 309070015 | B3: 0309070015 TRATAMENTO ESCLEROSANTE NAO ESTETICO DE VARIZES D | C3: =IFERROR(VLOOKUP($A3,delibfp,2,0)*(Físico!B3),0) -> 0 | D3: =IFERROR(VLOOKUP($A3,delibfp,2,0)*(Físico!C3),0) -> 0 | E3: =IFERROR(VLOOKUP($A3,delibfp,2,0)*(Físico!D3),0) -> 0 | F3: =IFERROR(VLOOKUP($A3,delibfp,2,0)*(Físico!E3),0) -> 0 | G3: =IFERROR(VLOOKUP($A3,delibfp,2,0)*(Físico!F3),0) -> 7050 | H3: =IFERROR(VLOOKUP($A3,delibfp,2,0)*(Físico!G3),0) -> 0 | I3: =IFERROR(VLOOKUP($A3,delibfp,2,0)*(Físico!H3),0) -> 38550 | J3: =IFERROR(VLOOKUP($A3,delibfp,2,0)*(Físico!I3),0) -> 3000 | ... AF3: =IFERROR(VLOOKUP($A3,delibfp,2,0)*(Físico!AE3),0) -> 0 | AG3: =SUM(C3:AF3) -> 73950
A4: =LEFT(B4,10)*1 -> 309070023 | B4: 0309070023 TRATAMENTO ESCLEROSANTE NAO ESTETICO DE VARIZES D | C4: =IFERROR(VLOOKUP($A4,delibfp,2,0)*(Físico!B4),0) -> 115200 | D4: =IFERROR(VLOOKUP($A4,delibfp,2,0)*(Físico!C4),0) -> 0 | E4: =IFERROR(VLOOKUP($A4,delibfp,2,0)*(Físico!D4),0) -> 0 | F4: =IFERROR(VLOOKUP($A4,delibfp,2,0)*(Físico!E4),0) -> 0 | G4: =IFERROR(VLOOKUP($A4,delibfp,2,0)*(Físico!F4),0) -> 0 | H4: =IFERROR(VLOOKUP($A4,delibfp,2,0)*(Físico!G4),0) -> 0 | I4: =IFERROR(VLOOKUP($A4,delibfp,2,0)*(Físico!H4),0) -> 1500 | J4: =IFERROR(VLOOKUP($A4,delibfp,2,0)*(Físico!I4),0) -> 0 | ... AF4: =IFERROR(VLOOKUP($A4,delibfp,2,0)*(Físico!AE4),0) -> 0 | AG4: =SUM(C4:AF4) -> 269700
A5: =LEFT(B5,10)*1 -> 418010030 | B5: 0418010030 CONFECCAO DE FISTULA ARTERIO-VENOSA P/ HEMODIALIS | C5: =IFERROR(VLOOKUP($A5,delibfp,2,0)*(Físico!B5),0) -> 0 | D5: =IFERROR(VLOOKUP($A5,delibfp,2,0)*(Físico!C5),0) -> 0 | E5: =IFERROR(VLOOKUP($A5,delibfp,2,0)*(Físico!D5),0) -> 5155.2 | F5: =IFERROR(VLOOKUP($A5,delibfp,2,0)*(Físico!E5),0) -> 0 | G5: =IFERROR(VLOOKUP($A5,delibfp,2,0)*(Físico!F5),0) -> 0 | H5: =IFERROR(VLOOKUP($A5,delibfp,2,0)*(Físico!G5),0) -> 0 | I5: =IFERROR(VLOOKUP($A5,delibfp,2,0)*(Físico!H5),0) -> 0 | J5: =IFERROR(VLOOKUP($A5,delibfp,2,0)*(Físico!I5),0) -> 0 | ... AF5: =IFERROR(VLOOKUP($A5,delibfp,2,0)*(Físico!AE5),0) -> 0 | AG5: =SUM(C5:AF5) -> 5155.2
B6: Total | C6: =SUM(C2:C5) -> 115200 | D6: =SUM(D2:D5) -> 23836.64 | E6: =SUM(E2:E5) -> 7664.32 | F6: =SUM(F2:F5) -> 164347.36 | G6: =SUM(G2:G5) -> 7050 | H6: =SUM(H2:H5) -> 7527.36 | I6: =SUM(I2:I5) -> 40050 | J6: =SUM(J2:J5) -> 3000 | ... AG6: =SUM(AG2:AG5) -> 3014745.2
